View In:
ArcGIS JavaScript
ArcGIS Online Map Viewer
ArcGIS Earth
Service Description: LoneButte_COG_2_tif
Name: LoneButte_COG_2_tif
Description:
Single Fused Map Cache: false
Extent:
XMin: 683136.83104169
YMin: 825653.6702794022
XMax: 693474.939117258
YMax: 833927.9785912745
Spatial Reference: PROJCS["GRIC_NAD83_AZ_Central_Ground_USft_rev",GEOGCS["GCS_NAD_1983_2011",DATUM["D_NAD_1983_2011",SPHEROID["GRS_1980",6378137.0,298.257222101]],PRIMEM["Greenwich",0.0],UNIT["Degree",0.0174532925199433]],PROJECTION["Transverse_Mercator"],PARAMETER["False_Easting",699994.942678469],PARAMETER["False_Northing",-121.73703928038],PARAMETER["Central_Meridian",-111.916666666667],PARAMETER["Scale_Factor",1.00005738426],PARAMETER["Latitude_Of_Origin",31.0],UNIT["Foot_US",0.3048006096012192]]
Initial Extent:
XMin: 683136.83104169
YMin: 825653.6702794022
XMax: 693474.939117258
YMax: 833927.9785912745
Spatial Reference: PROJCS["GRIC_NAD83_AZ_Central_Ground_USft_rev",GEOGCS["GCS_NAD_1983_2011",DATUM["D_NAD_1983_2011",SPHEROID["GRS_1980",6378137.0,298.257222101]],PRIMEM["Greenwich",0.0],UNIT["Degree",0.0174532925199433]],PROJECTION["Transverse_Mercator"],PARAMETER["False_Easting",699994.942678469],PARAMETER["False_Northing",-121.73703928038],PARAMETER["Central_Meridian",-111.916666666667],PARAMETER["Scale_Factor",1.00005738426],PARAMETER["Latitude_Of_Origin",31.0],UNIT["Foot_US",0.3048006096012192]]
Full Extent:
XMin: 683136.83104169
YMin: 825653.6702794022
XMax: 693474.939117258
YMax: 833927.9785912745
Spatial Reference: PROJCS["GRIC_NAD83_AZ_Central_Ground_USft_rev",GEOGCS["GCS_NAD_1983_2011",DATUM["D_NAD_1983_2011",SPHEROID["GRS_1980",6378137.0,298.257222101]],PRIMEM["Greenwich",0.0],UNIT["Degree",0.0174532925199433]],PROJECTION["Transverse_Mercator"],PARAMETER["False_Easting",699994.942678469],PARAMETER["False_Northing",-121.73703928038],PARAMETER["Central_Meridian",-111.916666666667],PARAMETER["Scale_Factor",1.00005738426],PARAMETER["Latitude_Of_Origin",31.0],UNIT["Foot_US",0.3048006096012192]]
Pixel Size X: 0.07464553543472727
Pixel Size Y: 0.07464553543476021
Band Count: 3
Pixel Type: U16
RasterFunction Infos: {"rasterFunctionInfos": [{
"name": "None",
"description": "",
"help": ""
}]}
Mensuration Capabilities: Basic
Inspection Capabilities:
Has Histograms: true
Has Colormap: false
Has Multi Dimensions : false
Rendering Rule:
Min Scale: 0
Max Scale: 0
Copyright Text:
Service Data Type: esriImageServiceDataTypeGeneric
Min Values: 0, 0, 0
Max Values: 255, 255, 255
Mean Values: 135.59090429761, 36.07021568842, 34.436126468139
Standard Deviation Values: 69.073332534854, 67.56020519101, 64.670023634301
Object ID Field:
Fields:
None
Default Mosaic Method: Center
Allowed Mosaic Methods:
SortField:
SortValue: null
Mosaic Operator: First
Default Compression Quality: 75
Default Resampling Method: Bilinear
Max Record Count: null
Max Image Height: 4100
Max Image Width: 15000
Max Download Image Count: null
Max Mosaic Image Count: null
Allow Raster Function: true
Allow Copy: true
Allow Analysis: true
Allow Compute TiePoints: false
Supports Statistics: false
Supports Advanced Queries: false
Use StandardizedQueries: true
Raster Type Infos:
Name: Raster Dataset
Description: Supports all ArcGIS Raster Datasets
Help:
Has Raster Attribute Table: false
Edit Fields Info: null
Ownership Based AccessControl For Rasters: null
Child Resources:
Info
Histograms
Statistics
Key Properties
Legend
Raster Function Infos
Supported Operations:
Export Image
Identify
Measure
Compute Histograms
Compute Statistics Histograms
Get Samples
Compute Class Statistics
Query Boundary
Compute Pixel Location
Compute Angles
Validate
Project